BEGIN:VCALENDAR
VERSION:2.0
PRODID:-//Contratero//ES
CALSCALE:GREGORIAN
METHOD:PUBLISH
BEGIN:VEVENT
UID:PAS 47/21_5405@contratero.es
DTSTAMP:20260424T061401Z
DTSTART:20220117T235959
DTEND:20220118T005959
SUMMARY:Cierre: Servicio de Soluciones de Apoyo a la Plataforma de
DESCRIPTION:Servicio de Soluciones de Apoyo a la Plataforma de gestión de servicios bibliotecarios de la Universidad Complutense de Madrid\\n\\nOrganismo: Rectorado de la Universidad Complutense de Madrid\\n\\nVer en Contratero: https://contratero.es/contracts/PAS 47/21_5405
URL:https://contratero.es/contracts/PAS 47/21_5405
STATUS:CONFIRMED
BEGIN:VALARM
TRIGGER:-P1D
ACTION:DISPLAY
DESCRIPTION:Recordatorio: Servicio de Soluciones de Apoy
END:VALARM
END:VEVENT
END:VCALENDAR